Workbook

Sheet Inventario
A1: Artículo | B1: Referencia | C1: Categoría | D1: Stock | E1: Coste | F1: Precio | G1: Consumo mes | H1: Plazo (días) | I1: Pedido mínimo | J1: Consumo diario | K1: Stock de seguridad | L1: Punto de pedido | M1: Pedido óptimo | N1: Estado | O1: Cantidad a pedir | P1: Valor en stock | Q1: Cobertura (días) | R1: Importe a pedir
A2: Zapatilla trail | B2: ZT-42 | C2: Calzado | D2: 18 | E2: 52 | F2: 109.9 | G2: 30 | H2: 14 | I2: 12 | J2: =IF(A2="","",G2*12/365) | K2: =IF(A2="","",MAX(0,ROUNDUP(Parámetros!$B$11*G2*Parámetros!$B$4*SQRT(IF(H2="",Parámetros!$B$5,H2)/(365/12))-0.000000001,0))) | L2: =IF(A2="","",IF(G2>0,ROUNDUP(J2*IF(H2="",Parámetros!$B$5,H2)+Parámetros!$B$11*G2*Parámetros!$B$4*SQRT(IF(H2="",Parámetros!$B$5,H2)/(365/12))-0.000000001,0),0)) | M2: =IF(A2="","",IF(G2>0,MAX(IF(AND(E2>0,Parámetros!$B$7>0,Parámetros!$B$6>0),ROUNDUP(SQRT(2*G2*12*Parámetros!$B$6/(E2*Parámetros!$B$7))-0.000000001,0),G2),I2,1),0)) | N2: =IF(A2="","",IF(G2<=0,IF(D2>0,"Sin movimiento","Sin datos"),IF(D2<J2*IF(H2="",Parámetros!$B$5,H2),"Rotura probable",IF(D2<=L2,"Pedir ya",IF(AND(D2>L2+M2,D2/J2>Parámetros!$B$8),"Sobrestock","Correcto"))))) | O2: =IF(A2="","",IF(OR(N2="Rotura probable",N2="Pedir ya"),MAX(M2,ROUNDUP(L2-D2,0)),0)) | P2: =IF(A2="","",D2*E2) | Q2: =IF(A2="","",IF(J2>0,D2/J2,"")) | R2: =IF(A2="","",O2*E2)
A3: Mochila 30 L | B3: MO-30 | C3: Mochilas | D3: 25 | E3: 28 | F3: 64.9 | G3: 12 | I3: 0 | J3: =IF(A3="","",G3*12/365) | K3: =IF(A3="","",MAX(0,ROUNDUP(Parámetros!$B$11*G3*Parámetros!$B$4*SQRT(IF(H3="",Parámetros!$B$5,H3)/(365/12))-0.000000001,0))) | L3: =IF(A3="","",IF(G3>0,ROUNDUP(J3*IF(H3="",Parámetros!$B$5,H3)+Parámetros!$B$11*G3*Parámetros!$B$4*SQRT(IF(H3="",Parámetros!$B$5,H3)/(365/12))-0.000000001,0),0)) | M3: =IF(A3="","",IF(G3>0,MAX(IF(AND(E3>0,Parámetros!$B$7>0,Parámetros!$B$6>0),ROUNDUP(SQRT(2*G3*12*Parámetros!$B$6/(E3*Parámetros!$B$7))-0.000000001,0),G3),I3,1),0)) | N3: =IF(A3="","",IF(G3<=0,IF(D3>0,"Sin movimiento","Sin datos"),IF(D3<J3*IF(H3="",Parámetros!$B$5,H3),"Rotura probable",IF(D3<=L3,"Pedir ya",IF(AND(D3>L3+M3,D3/J3>Parámetros!$B$8),"Sobrestock","Correcto"))))) | O3: =IF(A3="","",IF(OR(N3="Rotura probable",N3="Pedir ya"),MAX(M3,ROUNDUP(L3-D3,0)),0)) | P3: =IF(A3="","",D3*E3) | Q3: =IF(A3="","",IF(J3>0,D3/J3,"")) | R3: =IF(A3="","",O3*E3)
A4: Calcetín técnico | B4: CT-01 | C4: Textil | D4: 340 | E4: 3.2 | F4: 12.9 | G4: 60 | I4: 0 | J4: =IF(A4="","",G4*12/365) | K4: =IF(A4="","",MAX(0,ROUNDUP(Parámetros!$B$11*G4*Parámetros!$B$4*SQRT(IF(H4="",Parámetros!$B$5,H4)/(365/12))-0.000000001,0))) | L4: =IF(A4="","",IF(G4>0,ROUNDUP(J4*IF(H4="",Parámetros!$B$5,H4)+Parámetros!$B$11*G4*Parámetros!$B$4*SQRT(IF(H4="",Parámetros!$B$5,H4)/(365/12))-0.000000001,0),0)) | M4: =IF(A4="","",IF(G4>0,MAX(IF(AND(E4>0,Parámetros!$B$7>0,Parámetros!$B$6>0),ROUNDUP(SQRT(2*G4*12*Parámetros!$B$6/(E4*Parámetros!$B$7))-0.000000001,0),G4),I4,1),0)) | N4: =IF(A4="","",IF(G4<=0,IF(D4>0,"Sin movimiento","Sin datos"),IF(D4<J4*IF(H4="",Parámetros!$B$5,H4),"Rotura probable",IF(D4<=L4,"Pedir ya",IF(AND(D4>L4+M4,D4/J4>Parámetros!$B$8),"Sobrestock","Correcto"))))) | O4: =IF(A4="","",IF(OR(N4="Rotura probable",N4="Pedir ya"),MAX(M4,ROUNDUP(L4-D4,0)),0)) | P4: =IF(A4="","",D4*E4) | Q4: =IF(A4="","",IF(J4>0,D4/J4,"")) | R4: =IF(A4="","",O4*E4)
A5: Chaqueta impermeable | B5: CH-IM | C5: Textil | D5: 3 | E5: 61 | F5: 149 | G5: 6 | H5: 21 | I5: 0 | J5: =IF(A5="","",G5*12/365) | K5: =IF(A5="","",MAX(0,ROUNDUP(Parámetros!$B$11*G5*Parámetros!$B$4*SQRT(IF(H5="",Parámetros!$B$5,H5)/(365/12))-0.000000001,0))) | L5: =IF(A5="","",IF(G5>0,ROUNDUP(J5*IF(H5="",Parámetros!$B$5,H5)+Parámetros!$B$11*G5*Parámetros!$B$4*SQRT(IF(H5="",Parámetros!$B$5,H5)/(365/12))-0.000000001,0),0)) | M5: =IF(A5="","",IF(G5>0,MAX(IF(AND(E5>0,Parámetros!$B$7>0,Parámetros!$B$6>0),ROUNDUP(SQRT(2*G5*12*Parámetros!$B$6/(E5*Parámetros!$B$7))-0.000000001,0),G5),I5,1),0)) | N5: =IF(A5="","",IF(G5<=0,IF(D5>0,"Sin movimiento","Sin datos"),IF(D5<J5*IF(H5="",Parámetros!$B$5,H5),"Rotura probable",IF(D5<=L5,"Pedir ya",IF(AND(D5>L5+M5,D5/J5>Parámetros!$B$8),"Sobrestock","Correcto"))))) | O5: =IF(A5="","",IF(OR(N5="Rotura probable",N5="Pedir ya"),MAX(M5,ROUNDUP(L5-D5,0)),0)) | P5: =IF(A5="","",D5*E5) | Q5: =IF(A5="","",IF(J5>0,D5/J5,"")) | R5: =IF(A5="","",O5*E5)
A6: Bastones carbono | B6: BA-CB | C6: Accesorios | D6: 14 | E6: 35 | F6: 79 | G6: 3 | I6: 0 | J6: =IF(A6="","",G6*12/365) | K6: =IF(A6="","",MAX(0,ROUNDUP(Parámetros!$B$11*G6*Parámetros!$B$4*SQRT(IF(H6="",Parámetros!$B$5,H6)/(365/12))-0.000000001,0))) | L6: =IF(A6="","",IF(G6>0,ROUNDUP(J6*IF(H6="",Parámetros!$B$5,H6)+Parámetros!$B$11*G6*Parámetros!$B$4*SQRT(IF(H6="",Parámetros!$B$5,H6)/(365/12))-0.000000001,0),0)) | M6: =IF(A6="","",IF(G6>0,MAX(IF(AND(E6>0,Parámetros!$B$7>0,Parámetros!$B$6>0),ROUNDUP(SQRT(2*G6*12*Parámetros!$B$6/(E6*Parámetros!$B$7))-0.000000001,0),G6),I6,1),0)) | N6: =IF(A6="","",IF(G6<=0,IF(D6>0,"Sin movimiento","Sin datos"),IF(D6<J6*IF(H6="",Parámetros!$B$5,H6),"Rotura probable",IF(D6<=L6,"Pedir ya",IF(AND(D6>L6+M6,D6/J6>Parámetros!$B$8),"Sobrestock","Correcto"))))) | O6: =IF(A6="","",IF(OR(N6="Rotura probable",N6="Pedir ya"),MAX(M6,ROUNDUP(L6-D6,0)),0)) | P6: =IF(A6="","",D6*E6) | Q6: =IF(A6="","",IF(J6>0,D6/J6,"")) | R6: =IF(A6="","",O6*E6)
A7: Frontal LED | B7: FR-LED | C7: Accesorios | D7: 40 | E7: 11.5 | F7: 29.9 | G7: 15 | I7: 0 | J7: =IF(A7="","",G7*12/365) | K7: =IF(A7="","",MAX(0,ROUNDUP(Parámetros!$B$11*G7*Parámetros!$B$4*SQRT(IF(H7="",Parámetros!$B$5,H7)/(365/12))-0.000000001,0))) | L7: =IF(A7="","",IF(G7>0,ROUNDUP(J7*IF(H7="",Parámetros!$B$5,H7)+Parámetros!$B$11*G7*Parámetros!$B$4*SQRT(IF(H7="",Parámetros!$B$5,H7)/(365/12))-0.000000001,0),0)) | M7: =IF(A7="","",IF(G7>0,MAX(IF(AND(E7>0,Parámetros!$B$7>0,Parámetros!$B$6>0),ROUNDUP(SQRT(2*G7*12*Parámetros!$B$6/(E7*Parámetros!$B$7))-0.000000001,0),G7),I7,1),0)) | N7: =IF(A7="","",IF(G7<=0,IF(D7>0,"Sin movimiento","Sin datos"),IF(D7<J7*IF(H7="",Parámetros!$B$5,H7),"Rotura probable",IF(D7<=L7,"Pedir ya",IF(AND(D7>L7+M7,D7/J7>Parámetros!$B$8),"Sobrestock","Correcto"))))) | O7: =IF(A7="","",IF(OR(N7="Rotura probable",N7="Pedir ya"),MAX(M7,ROUNDUP(L7-D7,0)),0)) | P7: =IF(A7="","",D7*E7) | Q7: =IF(A7="","",IF(J7>0,D7/J7,"")) | R7: =IF(A7="","",O7*E7)
A8: Gorra running | B8: GO-RU | C8: Textil | D8: 55 | E8: 6 | F8: 14.9 | G8: 0 | I8: 0 | J8: =IF(A8="","",G8*12/365) | K8: =IF(A8="","",MAX(0,ROUNDUP(Parámetros!$B$11*G8*Parámetros!$B$4*SQRT(IF(H8="",Parámetros!$B$5,H8)/(365/12))-0.000000001,0))) | L8: =IF(A8="","",IF(G8>0,ROUNDUP(J8*IF(H8="",Parámetros!$B$5,H8)+Parámetros!$B$11*G8*Parámetros!$B$4*SQRT(IF(H8="",Parámetros!$B$5,H8)/(365/12))-0.000000001,0),0)) | M8: =IF(A8="","",IF(G8>0,MAX(IF(AND(E8>0,Parámetros!$B$7>0,Parámetros!$B$6>0),ROUNDUP(SQRT(2*G8*12*Parámetros!$B$6/(E8*Parámetros!$B$7))-0.000000001,0),G8),I8,1),0)) | N8: =IF(A8="","",IF(G8<=0,IF(D8>0,"Sin movimiento","Sin datos"),IF(D8<J8*IF(H8="",Parámetros!$B$5,H8),"Rotura probable",IF(D8<=L8,"Pedir ya",IF(AND(D8>L8+M8,D8/J8>Parámetros!$B$8),"Sobrestock","Correcto"))))) | O8: =IF(A8="","",IF(OR(N8="Rotura probable",N8="Pedir ya"),MAX(M8,ROUNDUP(L8-D8,0)),0)) | P8: =IF(A8="","",D8*E8) | Q8: =IF(A8="","",IF(J8>0,D8/J8,"")) | R8: =IF(A8="","",O8*E8)
A9: Gel energético | B9: GE-01 | C9: Nutrición | D9: 120 | E9: 0.9 | F9: 2.5 | G9: 140 | H9: 5 | I9: 48 | J9: =IF(A9="","",G9*12/365) | K9: =IF(A9="","",MAX(0,ROUNDUP(Parámetros!$B$11*G9*Parámetros!$B$4*SQRT(IF(H9="",Parámetros!$B$5,H9)/(365/12))-0.000000001,0))) | L9: =IF(A9="","",IF(G9>0,ROUNDUP(J9*IF(H9="",Parámetros!$B$5,H9)+Parámetros!$B$11*G9*Parámetros!$B$4*SQRT(IF(H9="",Parámetros!$B$5,H9)/(365/12))-0.000000001,0),0)) | M9: =IF(A9="","",IF(G9>0,MAX(IF(AND(E9>0,Parámetros!$B$7>0,Parámetros!$B$6>0),ROUNDUP(SQRT(2*G9*12*Parámetros!$B$6/(E9*Parámetros!$B$7))-0.000000001,0),G9),I9,1),0)) | N9: =IF(A9="","",IF(G9<=0,IF(D9>0,"Sin movimiento","Sin datos"),IF(D9<J9*IF(H9="",Parámetros!$B$5,H9),"Rotura probable",IF(D9<=L9,"Pedir ya",IF(AND(D9>L9+M9,D9/J9>Parámetros!$B$8),"Sobrestock","Correcto"))))) | O9: =IF(A9="","",IF(OR(N9="Rotura probable",N9="Pedir ya"),MAX(M9,ROUNDUP(L9-D9,0)),0)) | P9: =IF(A9="","",D9*E9) | Q9: =IF(A9="","",IF(J9>0,D9/J9,"")) | R9: =IF(A9="","",O9*E9)
J10: =IF(A10="","",G10*12/365) | K10: =IF(A10="","",MAX(0,ROUNDUP(Parámetros!$B$11*G10*Parámetros!$B$4*SQRT(IF(H10="",Parámetros!$B$5,H10)/(365/12))-0.000000001,0))) | L10: =IF(A10="","",IF(G10>0,ROUNDUP(J10*IF(H10="",Parámetros!$B$5,H10)+Parámetros!$B$11*G10*Parámetros!$B$4*SQRT(IF(H10="",Parámetros!$B$5,H10)/(365/12))-0.000000001,0),0)) | M10: =IF(A10="","",IF(G10>0,MAX(IF(AND(E10>0,Parámetros!$B$7>0,Parámetros!$B$6>0),ROUNDUP(SQRT(2*G10*12*Parámetros!$B$6/(E10*Parámetros!$B$7))-0.000000001,0),G10),I10,1),0)) | N10: =IF(A10="","",IF(G10<=0,IF(D10>0,"Sin movimiento","Sin datos"),IF(D10<J10*IF(H10="",Parámetros!$B$5,H10),"Rotura probable",IF(D10<=L10,"Pedir ya",IF(AND(D10>L10+M10,D10/J10>Parámetros!$B$8),"Sobrestock","Correcto"))))) | O10: =IF(A10="","",IF(OR(N10="Rotura probable",N10="Pedir ya"),MAX(M10,ROUNDUP(L10-D10,0)),0)) | P10: =IF(A10="","",D10*E10) | Q10: =IF(A10="","",IF(J10>0,D10/J10,"")) | R10: =IF(A10="","",O10*E10)
J11: =IF(A11="","",G11*12/365) | K11: =IF(A11="","",MAX(0,ROUNDUP(Parámetros!$B$11*G11*Parámetros!$B$4*SQRT(IF(H11="",Parámetros!$B$5,H11)/(365/12))-0.000000001,0))) | L11: =IF(A11="","",IF(G11>0,ROUNDUP(J11*IF(H11="",Parámetros!$B$5,H11)+Parámetros!$B$11*G11*Parámetros!$B$4*SQRT(IF(H11="",Parámetros!$B$5,H11)/(365/12))-0.000000001,0),0)) | M11: =IF(A11="","",IF(G11>0,MAX(IF(AND(E11>0,Parámetros!$B$7>0,Parámetros!$B$6>0),ROUNDUP(SQRT(2*G11*12*Parámetros!$B$6/(E11*Parámetros!$B$7))-0.000000001,0),G11),I11,1),0)) | N11: =IF(A11="","",IF(G11<=0,IF(D11>0,"Sin movimiento","Sin datos"),IF(D11<J11*IF(H11="",Parámetros!$B$5,H11),"Rotura probable",IF(D11<=L11,"Pedir ya",IF(AND(D11>L11+M11,D11/J11>Parámetros!$B$8),"Sobrestock","Correcto"))))) | O11: =IF(A11="","",IF(OR(N11="Rotura probable",N11="Pedir ya"),MAX(M11,ROUNDUP(L11-D11,0)),0)) | P11: =IF(A11="","",D11*E11) | Q11: =IF(A11="","",IF(J11>0,D11/J11,"")) | R11: =IF(A11="","",O11*E11)
J12: =IF(A12="","",G12*12/365) | K12: =IF(A12="","",MAX(0,ROUNDUP(Parámetros!$B$11*G12*Parámetros!$B$4*SQRT(IF(H12="",Parámetros!$B$5,H12)/(365/12))-0.000000001,0))) | L12: =IF(A12="","",IF(G12>0,ROUNDUP(J12*IF(H12="",Parámetros!$B$5,H12)+Parámetros!$B$11*G12*Parámetros!$B$4*SQRT(IF(H12="",Parámetros!$B$5,H12)/(365/12))-0.000000001,0),0)) | M12: =IF(A12="","",IF(G12>0,MAX(IF(AND(E12>0,Parámetros!$B$7>0,Parámetros!$B$6>0),ROUNDUP(SQRT(2*G12*12*Parámetros!$B$6/(E12*Parámetros!$B$7))-0.000000001,0),G12),I12,1),0)) | N12: =IF(A12="","",IF(G12<=0,IF(D12>0,"Sin movimiento","Sin datos"),IF(D12<J12*IF(H12="",Parámetros!$B$5,H12),"Rotura probable",IF(D12<=L12,"Pedir ya",IF(AND(D12>L12+M12,D12/J12>Parámetros!$B$8),"Sobrestock","Correcto"))))) | O12: =IF(A12="","",IF(OR(N12="Rotura probable",N12="Pedir ya"),MAX(M12,ROUNDUP(L12-D12,0)),0)) | P12: =IF(A12="","",D12*E12) | Q12: =IF(A12="","",IF(J12>0,D12/J12,"")) | R12: =IF(A12="","",O12*E12)
J13: =IF(A13="","",G13*12/365) | K13: =IF(A13="","",MAX(0,ROUNDUP(Parámetros!$B$11*G13*Parámetros!$B$4*SQRT(IF(H13="",Parámetros!$B$5,H13)/(365/12))-0.000000001,0))) | L13: =IF(A13="","",IF(G13>0,ROUNDUP(J13*IF(H13="",Parámetros!$B$5,H13)+Parámetros!$B$11*G13*Parámetros!$B$4*SQRT(IF(H13="",Parámetros!$B$5,H13)/(365/12))-0.000000001,0),0)) | M13: =IF(A13="","",IF(G13>0,MAX(IF(AND(E13>0,Parámetros!$B$7>0,Parámetros!$B$6>0),ROUNDUP(SQRT(2*G13*12*Parámetros!$B$6/(E13*Parámetros!$B$7))-0.000000001,0),G13),I13,1),0)) | N13: =IF(A13="","",IF(G13<=0,IF(D13>0,"Sin movimiento","Sin datos"),IF(D13<J13*IF(H13="",Parámetros!$B$5,H13),"Rotura probable",IF(D13<=L13,"Pedir ya",IF(AND(D13>L13+M13,D13/J13>Parámetros!$B$8),"Sobrestock","Correcto"))))) | O13: =IF(A13="","",IF(OR(N13="Rotura probable",N13="Pedir ya"),MAX(M13,ROUNDUP(L13-D13,0)),0)) | P13: =IF(A13="","",D13*E13) | Q13: =IF(A13="","",IF(J13>0,D13/J13,"")) | R13: =IF(A13="","",O13*E13)
J14: =IF(A14="","",G14*12/365) | K14: =IF(A14="","",MAX(0,ROUNDUP(Parámetros!$B$11*G14*Parámetros!$B$4*SQRT(IF(H14="",Parámetros!$B$5,H14)/(365/12))-0.000000001,0))) | L14: =IF(A14="","",IF(G14>0,ROUNDUP(J14*IF(H14="",Parámetros!$B$5,H14)+Parámetros!$B$11*G14*Parámetros!$B$4*SQRT(IF(H14="",Parámetros!$B$5,H14)/(365/12))-0.000000001,0),0)) | M14: =IF(A14="","",IF(G14>0,MAX(IF(AND(E14>0,Parámetros!$B$7>0,Parámetros!$B$6>0),ROUNDUP(SQRT(2*G14*12*Parámetros!$B$6/(E14*Parámetros!$B$7))-0.000000001,0),G14),I14,1),0)) | N14: =IF(A14="","",IF(G14<=0,IF(D14>0,"Sin movimiento","Sin datos"),IF(D14<J14*IF(H14="",Parámetros!$B$5,H14),"Rotura probable",IF(D14<=L14,"Pedir ya",IF(AND(D14>L14+M14,D14/J14>Parámetros!$B$8),"Sobrestock","Correcto"))))) | O14: =IF(A14="","",IF(OR(N14="Rotura probable",N14="Pedir ya"),MAX(M14,ROUNDUP(L14-D14,0)),0)) | P14: =IF(A14="","",D14*E14) | Q14: =IF(A14="","",IF(J14>0,D14/J14,"")) | R14: =IF(A14="","",O14*E14)
J15: =IF(A15="","",G15*12/365) | K15: =IF(A15="","",MAX(0,ROUNDUP(Parámetros!$B$11*G15*Parámetros!$B$4*SQRT(IF(H15="",Parámetros!$B$5,H15)/(365/12))-0.000000001,0))) | L15: =IF(A15="","",IF(G15>0,ROUNDUP(J15*IF(H15="",Parámetros!$B$5,H15)+Parámetros!$B$11*G15*Parámetros!$B$4*SQRT(IF(H15="",Parámetros!$B$5,H15)/(365/12))-0.000000001,0),0)) | M15: =IF(A15="","",IF(G15>0,MAX(IF(AND(E15>0,Parámetros!$B$7>0,Parámetros!$B$6>0),ROUNDUP(SQRT(2*G15*12*Parámetros!$B$6/(E15*Parámetros!$B$7))-0.000000001,0),G15),I15,1),0)) | N15: =IF(A15="","",IF(G15<=0,IF(D15>0,"Sin movimiento","Sin datos"),IF(D15<J15*IF(H15="",Parámetros!$B$5,H15),"Rotura probable",IF(D15<=L15,"Pedir ya",IF(AND(D15>L15+M15,D15/J15>Parámetros!$B$8),"Sobrestock","Correcto"))))) | O15: =IF(A15="","",IF(OR(N15="Rotura probable",N15="Pedir ya"),MAX(M15,ROUNDUP(L15-D15,0)),0)) | P15: =IF(A15="","",D15*E15) | Q15: =IF(A15="","",IF(J15>0,D15/J15,"")) | R15: =IF(A15="","",O15*E15)
J16: =IF(A16="","",G16*12/365) | K16: =IF(A16="","",MAX(0,ROUNDUP(Parámetros!$B$11*G16*Parámetros!$B$4*SQRT(IF(H16="",Parámetros!$B$5,H16)/(365/12))-0.000000001,0))) | L16: =IF(A16="","",IF(G16>0,ROUNDUP(J16*IF(H16="",Parámetros!$B$5,H16)+Parámetros!$B$11*G16*Parámetros!$B$4*SQRT(IF(H16="",Parámetros!$B$5,H16)/(365/12))-0.000000001,0),0)) | M16: =IF(A16="","",IF(G16>0,MAX(IF(AND(E16>0,Parámetros!$B$7>0,Parámetros!$B$6>0),ROUNDUP(SQRT(2*G16*12*Parámetros!$B$6/(E16*Parámetros!$B$7))-0.000000001,0),G16),I16,1),0)) | N16: =IF(A16="","",IF(G16<=0,IF(D16>0,"Sin movimiento","Sin datos"),IF(D16<J16*IF(H16="",Parámetros!$B$5,H16),"Rotura probable",IF(D16<=L16,"Pedir ya",IF(AND(D16>L16+M16,D16/J16>Parámetros!$B$8),"Sobrestock","Correcto"))))) | O16: =IF(A16="","",IF(OR(N16="Rotura probable",N16="Pedir ya"),MAX(M16,ROUNDUP(L16-D16,0)),0)) | P16: =IF(A16="","",D16*E16) | Q16: =IF(A16="","",IF(J16>0,D16/J16,"")) | R16: =IF(A16="","",O16*E16)
J17: =IF(A17="","",G17*12/365) | K17: =IF(A17="","",MAX(0,ROUNDUP(Parámetros!$B$11*G17*Parámetros!$B$4*SQRT(IF(H17="",Parámetros!$B$5,H17)/(365/12))-0.000000001,0))) | L17: =IF(A17="","",IF(G17>0,ROUNDUP(J17*IF(H17="",Parámetros!$B$5,H17)+Parámetros!$B$11*G17*Parámetros!$B$4*SQRT(IF(H17="",Parámetros!$B$5,H17)/(365/12))-0.000000001,0),0)) | M17: =IF(A17="","",IF(G17>0,MAX(IF(AND(E17>0,Parámetros!$B$7>0,Parámetros!$B$6>0),ROUNDUP(SQRT(2*G17*12*Parámetros!$B$6/(E17*Parámetros!$B$7))-0.000000001,0),G17),I17,1),0)) | N17: =IF(A17="","",IF(G17<=0,IF(D17>0,"Sin movimiento","Sin datos"),IF(D17<J17*IF(H17="",Parámetros!$B$5,H17),"Rotura probable",IF(D17<=L17,"Pedir ya",IF(AND(D17>L17+M17,D17/J17>Parámetros!$B$8),"Sobrestock","Correcto"))))) | O17: =IF(A17="","",IF(OR(N17="Rotura probable",N17="Pedir ya"),MAX(M17,ROUNDUP(L17-D17,0)),0)) | P17: =IF(A17="","",D17*E17) | Q17: =IF(A17="","",IF(J17>0,D17/J17,"")) | R17: =IF(A17="","",O17*E17)
J18: =IF(A18="","",G18*12/365) | K18: =IF(A18="","",MAX(0,ROUNDUP(Parámetros!$B$11*G18*Parámetros!$B$4*SQRT(IF(H18="",Parámetros!$B$5,H18)/(365/12))-0.000000001,0))) | L18: =IF(A18="","",IF(G18>0,ROUNDUP(J18*IF(H18="",Parámetros!$B$5,H18)+Parámetros!$B$11*G18*Parámetros!$B$4*SQRT(IF(H18="",Parámetros!$B$5,H18)/(365/12))-0.000000001,0),0)) | M18: =IF(A18="","",IF(G18>0,MAX(IF(AND(E18>0,Parámetros!$B$7>0,Parámetros!$B$6>0),ROUNDUP(SQRT(2*G18*12*Parámetros!$B$6/(E18*Parámetros!$B$7))-0.000000001,0),G18),I18,1),0)) | N18: =IF(A18="","",IF(G18<=0,IF(D18>0,"Sin movimiento","Sin datos"),IF(D18<J18*IF(H18="",Parámetros!$B$5,H18),"Rotura probable",IF(D18<=L18,"Pedir ya",IF(AND(D18>L18+M18,D18/J18>Parámetros!$B$8),"Sobrestock","Correcto"))))) | O18: =IF(A18="","",IF(OR(N18="Rotura probable",N18="Pedir ya"),MAX(M18,ROUNDUP(L18-D18,0)),0)) | P18: =IF(A18="","",D18*E18) | Q18: =IF(A18="","",IF(J18>0,D18/J18,"")) | R18: =IF(A18="","",O18*E18)
J19: =IF(A19="","",G19*12/365) | K19: =IF(A19="","",MAX(0,ROUNDUP(Parámetros!$B$11*G19*Parámetros!$B$4*SQRT(IF(H19="",Parámetros!$B$5,H19)/(365/12))-0.000000001,0))) | L19: =IF(A19="","",IF(G19>0,ROUNDUP(J19*IF(H19="",Parámetros!$B$5,H19)+Parámetros!$B$11*G19*Parámetros!$B$4*SQRT(IF(H19="",Parámetros!$B$5,H19)/(365/12))-0.000000001,0),0)) | M19: =IF(A19="","",IF(G19>0,MAX(IF(AND(E19>0,Parámetros!$B$7>0,Parámetros!$B$6>0),ROUNDUP(SQRT(2*G19*12*Parámetros!$B$6/(E19*Parámetros!$B$7))-0.000000001,0),G19),I19,1),0)) | N19: =IF(A19="","",IF(G19<=0,IF(D19>0,"Sin movimiento","Sin datos"),IF(D19<J19*IF(H19="",Parámetros!$B$5,H19),"Rotura probable",IF(D19<=L19,"Pedir ya",IF(AND(D19>L19+M19,D19/J19>Parámetros!$B$8),"Sobrestock","Correcto"))))) | O19: =IF(A19="","",IF(OR(N19="Rotura probable",N19="Pedir ya"),MAX(M19,ROUNDUP(L19-D19,0)),0)) | P19: =IF(A19="","",D19*E19) | Q19: =IF(A19="","",IF(J19>0,D19/J19,"")) | R19: =IF(A19="","",O19*E19)
J20: =IF(A20="","",G20*12/365) | K20: =IF(A20="","",MAX(0,ROUNDUP(Parámetros!$B$11*G20*Parámetros!$B$4*SQRT(IF(H20="",Parámetros!$B$5,H20)/(365/12))-0.000000001,0))) | L20: =IF(A20="","",IF(G20>0,ROUNDUP(J20*IF(H20="",Parámetros!$B$5,H20)+Parámetros!$B$11*G20*Parámetros!$B$4*SQRT(IF(H20="",Parámetros!$B$5,H20)/(365/12))-0.000000001,0),0)) | M20: =IF(A20="","",IF(G20>0,MAX(IF(AND(E20>0,Parámetros!$B$7>0,Parámetros!$B$6>0),ROUNDUP(SQRT(2*G20*12*Parámetros!$B$6/(E20*Parámetros!$B$7))-0.000000001,0),G20),I20,1),0)) | N20: =IF(A20="","",IF(G20<=0,IF(D20>0,"Sin movimiento","Sin datos"),IF(D20<J20*IF(H20="",Parámetros!$B$5,H20),"Rotura probable",IF(D20<=L20,"Pedir ya",IF(AND(D20>L20+M20,D20/J20>Parámetros!$B$8),"Sobrestock","Correcto"))))) | O20: =IF(A20="","",IF(OR(N20="Rotura probable",N20="Pedir ya"),MAX(M20,ROUNDUP(L20-D20,0)),0)) | P20: =IF(A20="","",D20*E20) | Q20: =IF(A20="","",IF(J20>0,D20/J20,"")) | R20: =IF(A20="","",O20*E20)
J21: =IF(A21="","",G21*12/365) | K21: =IF(A21="","",MAX(0,ROUNDUP(Parámetros!$B$11*G21*Parámetros!$B$4*SQRT(IF(H21="",Parámetros!$B$5,H21)/(365/12))-0.000000001,0))) | L21: =IF(A21="","",IF(G21>0,ROUNDUP(J21*IF(H21="",Parámetros!$B$5,H21)+Parámetros!$B$11*G21*Parámetros!$B$4*SQRT(IF(H21="",Parámetros!$B$5,H21)/(365/12))-0.000000001,0),0)) | M21: =IF(A21="","",IF(G21>0,MAX(IF(AND(E21>0,Parámetros!$B$7>0,Parámetros!$B$6>0),ROUNDUP(SQRT(2*G21*12*Parámetros!$B$6/(E21*Parámetros!$B$7))-0.000000001,0),G21),I21,1),0)) | N21: =IF(A21="","",IF(G21<=0,IF(D21>0,"Sin movimiento","Sin datos"),IF(D21<J21*IF(H21="",Parámetros!$B$5,H21),"Rotura probable",IF(D21<=L21,"Pedir ya",IF(AND(D21>L21+M21,D21/J21>Parámetros!$B$8),"Sobrestock","Correcto"))))) | O21: =IF(A21="","",IF(OR(N21="Rotura probable",N21="Pedir ya"),MAX(M21,ROUNDUP(L21-D21,0)),0)) | P21: =IF(A21="","",D21*E21) | Q21: =IF(A21="","",IF(J21>0,D21/J21,"")) | R21: =IF(A21="","",O21*E21)
... J201: =IF(A201="","",G201*12/365) | K201: =IF(A201="","",MAX(0,ROUNDUP(Parámetros!$B$11*G201*Parámetros!$B$4*SQRT(IF(H201="",Parámetros!$B$5,H201)/(365/12))-0.000000001,0))) | L201: =IF(A201="","",IF(G201>0,ROUNDUP(J201*IF(H201="",Parámetros!$B$5,H201)+Parámetros!$B$11*G201*Parámetros!$B$4*SQRT(IF(H201="",Parámetros!$B$5,H201)/(365/12))-0.000000001,0),0)) | M201: =IF(A201="","",IF(G201>0,MAX(IF(AND(E201>0,Parámetros!$B$7>0,Parámetros!$B$6>0),ROUNDUP(SQRT(2*G201*12*Parámetros!$B$6/(E201*Parámetros!$B$7))-0.000000001,0),G201),I201,1),0)) | N201: =IF(A201="","",IF(G201<=0,IF(D201>0,"Sin movimiento","Sin datos"),IF(D201<J201*IF(H201="",Parámetros!$B$5,H201),"Rotura probable",IF(D201<=L201,"Pedir ya",IF(AND(D201>L201+M201,D201/J201>Parámetros!$B$8),"Sobrestock","Correcto"))))) | O201: =IF(A201="","",IF(OR(N201="Rotura probable",N201="Pedir ya"),MAX(M201,ROUNDUP(L201-D201,0)),0)) | P201: =IF(A201="","",D201*E201) | Q201: =IF(A201="","",IF(J201>0,D201/J201,"")) | R201: =IF(A201="","",O201*E201)

Sheet Resumen
A1: Recuento de inventario
A2: Fecha del recuento
A3: Valor del stock | B3: =SUM(Inventario!P2:P201)
A4: Artículos por pedir | B4: =COUNTIF(Inventario!N2:N201,"Pedir ya")+COUNTIF(Inventario!N2:N201,"Rotura probable")
A5: Pedido sugerido (€) | B5: =SUM(Inventario!R2:R201)
A6: Artículos en sobrestock | B6: =COUNTIF(Inventario!N2:N201,"Sobrestock")
A7: Artículos sin movimiento | B7: =COUNTIF(Inventario!N2:N201,"Sin movimiento")
A8: Coste anual de almacenaje | B8: =B3*Parámetros!$B$7
A11: «Valor del stock» es la cifra de «Te queda» en cofounderplans.com/herramientas/control-inventario (o sube este archivo allí).

Sheet Parámetros
A1: Parámetros del control de inventario
A3: Nivel de servicio | B3: 0.95 | C3: Probabilidad de no quedarte sin stock mientras llega el pedido (90 %, 95 %, 98 % o 99 %).
A4: Variabilidad de la demanda | B4: 0.3 | C4: Cuánto varían tus ventas de un mes a otro (15 % estable, 30 % normal, 50 % muy variable).
A5: Plazo general del proveedor (días) | B5: 10 | C5: Desde que pides hasta que puedes vender.
A6: Coste por pedido (€) | B6: 25 | C6: Tu tiempo, transporte y recepción de cada pedido.
A7: Coste de almacenaje (% anual) | B7: 0.2 | C7: Dinero parado, espacio, seguros y mermas.
A8: Sobrestock a partir de (días) | B8: 120 | C8: Cobertura a partir de la cual el stock se considera excesivo.
A11: z del nivel de servicio | B11: =NORMSINV(B3)
A13: Generado con cofounderplans.com/herramientas/control-inventario
